BEGIN:VCALENDAR
VERSION:2.0
PRODID:-//Geraldine&#039;s School of Drama - ECPv4.4.5//NONSGML v1.0//EN
CALSCALE:GREGORIAN
METHOD:PUBLISH
X-WR-CALNAME:Geraldine&#039;s School of Drama
X-ORIGINAL-URL:https://eloquence.ie
X-WR-CALDESC:Events for Geraldine&#039;s School of Drama
BEGIN:VEVENT
DTSTART;TZID=Europe/Dublin:20171021T090000
DTEND;TZID=Europe/Dublin:20171021T100000
DTSTAMP:20171031T075710
CREATED:20170405T205812Z
LAST-MODIFIED:20170405T205812Z
UID:2528-1508576400-1508580000@eloquence.ie
SUMMARY:Drama Bunnies
DESCRIPTION:Drama Bunnies Our Pre-school Speech & Drama course is suitable for children who are in their last pre-school year or who have just started primary school. This course focuses on fun drama activities that develop the imagination\, positive social skills and self-confidence. Through stories and short rhymes young children will develop clear speech and improve their communication skills. Creative drama encourages movement\, sensory skills and overall physical confidence.\n\nG.S.D. ‘Drama Pre School classes include tuition in drama\, movement and dance. Children work on specially selected poems and stories\, as well as their rhythm and co-ordination through games and drama activities.  Drama games are played to enhance confidence\, poetry and storytelling are used to develop performance skills and vocal technique. As well as some free play\, allowing children to relax\, let off steam\, develop social skills such as concentration\, co-operation and encourage the development of their imagination along with developing motor skills and teaching self -expression.\n\nOur Pre-School children really do learn ‘skills for life’ which are very important at this young and impressionable age. Syllabus content is thoughtfully designed each term to engage children’s imagination and ensure that the emphasis in the learning process is on enjoyment. Our aim is to help your child with their self-development\, This aim is achieved through a highly developed\, original drama programme. Each lesson is carefully planned and undertaken by fully trained drama teachers. Our drama classes include introductory activities\, speech\, verbal dynamics\, creative movement\, mimes to music\, language development\, structured improvisations\, scene starters\, mini-scripts\, parent day presentations and end of year productions but above all else\, the most important part of having your child attend a drama school is for kids to have an huge amount of fun playing\, and enjoy the process!
URL:https://eloquence.ie/class/drama-bunnies/2017-10-21/
LOCATION:Unit 4\, Creative Spark Clontygora Ct.\, Muirhevnamor\, Dundalk\, Co.Louth\, Ireland
GEO:53.9831192;-6.3830673
X-APPLE-STRUCTURED-LOCATION;VALUE=URI;X-ADDRESS=Unit 4 Creative Spark Clontygora Ct. Muirhevnamor Dundalk Co.Louth Ireland;X-APPLE-RADIUS=500;X-TITLE=Unit 4\, Creative Spark Clontygora Ct.\, Muirhevnamor:geo:-6.3830673,53.9831192
CATEGORIES:Preschool Drama
ATTACH;FMTTYPE=image/jpeg:https://eloquence.ie/gsd/wp-content/uploads/2017/04/two-girls-laying-in-constructor-blocks.jpg
ORGANIZER;CN="Geraldine%20Kieran":MAILTO:geraldinekieran@gmail.com
END:VEVENT
END:VCALENDAR