BEGIN:VCALENDAR
VERSION:2.0
PRODID:-//Geraldine&#039;s School of Drama - ECPv4.4.5//NONSGML v1.0//EN
CALSCALE:GREGORIAN
METHOD:PUBLISH
X-WR-CALNAME:Geraldine&#039;s School of Drama
X-ORIGINAL-URL:https://eloquence.ie
X-WR-CALDESC:Events for Geraldine&#039;s School of Drama
BEGIN:VEVENT
DTSTART;TZID=Europe/Dublin:20171014T100000
DTEND;TZID=Europe/Dublin:20171014T110000
DTSTAMP:20171031T074407
CREATED:20170405T210824Z
LAST-MODIFIED:20170811T151718Z
UID:1935-1507975200-1507978800@eloquence.ie
SUMMARY:Junior Speech & Drama
DESCRIPTION:The staple diet of a good drama school! Our Speech & Drama course is suitable for children from five years upwards the course is fun\, interactive and highly educational. The dual combination of Speech and Drama within this course provides children with transferable skills such as effective communication\, self-expression\, performance skills\, critical thinking and a more active imagination. The performance aspect such as drama & mime help improve spatial awareness\, motor skills and overall creativity. The speech element of the course improves articulation and enunciation.\n\nWhat is Speech and Drama?\n\nSpeech is communicating with one another\, and drama is choosing an interesting way to express it. Speech and Drama builds or develops confidence\, self-esteem\, social skills and conversational ability. It also teaches empathy\, providing ·opportunities for children to experience the world from perspectives outside their own. Speech and Drama lessons are not meant just for reserved children but for the exuberant ones too.\n\nDrama is a wonderful way through which they can channel their energies to find innovative methods of creating and expressing! They promote free expression of children's imagination and creativity. The performance aspect of drama\, mime and improvisation help improve spatial awareness\, motor skills and overall creativity on a purely educational level. While the study of text\, emotions and characterization help develop confident stage performers. The speech element of this course improves articulation and enunciation. Through poetry & rhymes students of all ages will improve their speech & understanding of language.
URL:https://eloquence.ie/class/junior-speech-drama/2017-10-14/
CATEGORIES:Drama & Speech
ATTACH;FMTTYPE=image/jpeg:https://eloquence.ie/gsd/wp-content/uploads/2017/04/teacher-reading-to-kids.jpg
ORGANIZER;CN="Geraldine%20Kieran":MAILTO:geraldinekieran@gmail.com
END:VEVENT
BEGIN:VEVENT
DTSTART;TZID=Europe/Dublin:20171014T111500
DTEND;TZID=Europe/Dublin:20171014T121500
DTSTAMP:20171031T074407
CREATED:20170405T205958Z
LAST-MODIFIED:20170405T205958Z
UID:1934-1507979700-1507983300@eloquence.ie
SUMMARY:Intermediate Speech & Drama
DESCRIPTION:
URL:https://eloquence.ie/class/intermediate-speech-drama/2017-10-14/
LOCATION:Unit 4\, Creative Spark Clontygora Ct.\, Muirhevnamor\, Dundalk\, Co.Louth\, Ireland
GEO:53.9831192;-6.3830673
X-APPLE-STRUCTURED-LOCATION;VALUE=URI;X-ADDRESS=Unit 4 Creative Spark Clontygora Ct. Muirhevnamor Dundalk Co.Louth Ireland;X-APPLE-RADIUS=500;X-TITLE=Unit 4\, Creative Spark Clontygora Ct.\, Muirhevnamor:geo:-6.3830673,53.9831192
CATEGORIES:Drama & Speech
ORGANIZER;CN="Geraldine%20Kieran":MAILTO:geraldinekieran@gmail.com
END:VEVENT
BEGIN:VEVENT
DTSTART;TZID=Europe/Dublin:20171014T120000
DTEND;TZID=Europe/Dublin:20171014T130000
DTSTAMP:20171031T074407
CREATED:20170405T204448Z
LAST-MODIFIED:20170921T221435Z
UID:2364-1507982400-1507986000@eloquence.ie
SUMMARY:Senior Speech & Drama
DESCRIPTION:The staple diet of a good drama school! Our Speech & Drama course is suitable for children from five years upwards the course is fun\, interactive and highly educational. The dual combination of Speech and Drama within this course provides children with transferable skills such as effective communication\, self-expression\, performance skills\, critical thinking and a more active imagination. The performance aspect such as drama & mime help improve spatial awareness\, motor skills and overall creativity. The speech element of the course improves articulation and enunciation.\n\nWhat is Speech and Drama?\n\nSpeech is communicating with one another\, and drama is choosing an interesting way to express it. Speech and Drama builds or develops confidence\, self-esteem\, social skills and conversational ability. It also teaches empathy\, providing ·opportunities for children to experience the world from perspectives outside their own. Speech and Drama lessons are not meant just for reserved children but for the exuberant ones too.\n\nDrama is a wonderful way through which they can channel their energies to find innovative methods of creating and expressing! They promote free expression of children's imagination and creativity. The performance aspect of drama\, mime and improvisation help improve spatial awareness\, motor skills and overall creativity on a purely educational level. While the study of text\, emotions and characterization help develop confident stage performers. The speech element of this course improves articulation and enunciation. Through poetry & rhymes students of all ages will improve their speech & understanding of language.
URL:https://eloquence.ie/class/senior-speech-and-drama/2017-10-14/
LOCATION:Unit 4\, Creative Spark Clontygora Ct.\, Muirhevnamor\, Dundalk\, Co.Louth\, Ireland
GEO:53.9831192;-6.3830673
X-APPLE-STRUCTURED-LOCATION;VALUE=URI;X-ADDRESS=Unit 4 Creative Spark Clontygora Ct. Muirhevnamor Dundalk Co.Louth Ireland;X-APPLE-RADIUS=500;X-TITLE=Unit 4\, Creative Spark Clontygora Ct.\, Muirhevnamor:geo:-6.3830673,53.9831192
CATEGORIES:Drama & Speech
ORGANIZER;CN="Geraldine%20Kieran":MAILTO:geraldinekieran@gmail.com
END:VEVENT
END:VCALENDAR