BEGIN:VCALENDAR
VERSION:2.0
PRODID:-//Geraldine&#039;s School of Drama - ECPv4.4.5//NONSGML v1.0//EN
CALSCALE:GREGORIAN
METHOD:PUBLISH
X-WR-CALNAME:Geraldine&#039;s School of Drama
X-ORIGINAL-URL:https://eloquence.ie
X-WR-CALDESC:Events for Geraldine&#039;s School of Drama
BEGIN:VEVENT
DTSTART;TZID=Europe/Dublin:20171202T090000
DTEND;TZID=Europe/Dublin:20171202T100000
DTSTAMP:20171031T080827
CREATED:20170405T205812Z
LAST-MODIFIED:20170405T205812Z
UID:2684-1512205200-1512208800@eloquence.ie
SUMMARY:Drama Bunnies
DESCRIPTION:Drama Bunnies Our Pre-school Speech & Drama course is suitable for children who are in their last pre-school year or who have just started primary school. This course focuses on fun drama activities that develop the imagination\, positive social skills and self-confidence. Through stories and short rhymes young children will develop clear speech and improve their communication skills. Creative drama encourages movement\, sensory skills and overall physical confidence.\n\nG.S.D. ‘Drama Pre School classes include tuition in drama\, movement and dance. Children work on specially selected poems and stories\, as well as their rhythm and co-ordination through games and drama activities.  Drama games are played to enhance confidence\, poetry and storytelling are used to develop performance skills and vocal technique. As well as some free play\, allowing children to relax\, let off steam\, develop social skills such as concentration\, co-operation and encourage the development of their imagination along with developing motor skills and teaching self -expression.\n\nOur Pre-School children really do learn ‘skills for life’ which are very important at this young and impressionable age. Syllabus content is thoughtfully designed each term to engage children’s imagination and ensure that the emphasis in the learning process is on enjoyment. Our aim is to help your child with their self-development\, This aim is achieved through a highly developed\, original drama programme. Each lesson is carefully planned and undertaken by fully trained drama teachers. Our drama classes include introductory activities\, speech\, verbal dynamics\, creative movement\, mimes to music\, language development\, structured improvisations\, scene starters\, mini-scripts\, parent day presentations and end of year productions but above all else\, the most important part of having your child attend a drama school is for kids to have an huge amount of fun playing\, and enjoy the process!
URL:https://eloquence.ie/class/drama-bunnies/2017-12-02/
LOCATION:Unit 4\, Creative Spark Clontygora Ct.\, Muirhevnamor\, Dundalk\, Co.Louth\, Ireland
GEO:53.9831192;-6.3830673
X-APPLE-STRUCTURED-LOCATION;VALUE=URI;X-ADDRESS=Unit 4 Creative Spark Clontygora Ct. Muirhevnamor Dundalk Co.Louth Ireland;X-APPLE-RADIUS=500;X-TITLE=Unit 4\, Creative Spark Clontygora Ct.\, Muirhevnamor:geo:-6.3830673,53.9831192
CATEGORIES:Preschool Drama
ATTACH;FMTTYPE=image/jpeg:https://eloquence.ie/gsd/wp-content/uploads/2017/04/two-girls-laying-in-constructor-blocks.jpg
ORGANIZER;CN="Geraldine%20Kieran":MAILTO:geraldinekieran@gmail.com
END:VEVENT
BEGIN:VEVENT
DTSTART;TZID=Europe/Dublin:20171202T100000
DTEND;TZID=Europe/Dublin:20171202T110000
DTSTAMP:20171031T080827
CREATED:20170405T210824Z
LAST-MODIFIED:20170405T210824Z
UID:2719-1512208800-1512212400@eloquence.ie
SUMMARY:Junior Speech & Drama
DESCRIPTION:The staple diet of a good drama school! Our Speech & Drama course is suitable for children from five years upwards the course is fun\, interactive and highly educational. The dual combination of Speech and Drama within this course provides children with transferable skills such as effective communication\, self-expression\, performance skills\, critical thinking and a more active imagination. The performance aspect such as drama & mime help improve spatial awareness\, motor skills and overall creativity. The speech element of the course improves articulation and enunciation.\n\nWhat is Speech and Drama?\n\nSpeech is communicating with one another\, and drama is choosing an interesting way to express it. Speech and Drama builds or develops confidence\, self-esteem\, social skills and conversational ability. It also teaches empathy\, providing ·opportunities for children to experience the world from perspectives outside their own. Speech and Drama lessons are not meant just for reserved children but for the exuberant ones too.\n\nDrama is a wonderful way through which they can channel their energies to find innovative methods of creating and expressing! They promote free expression of children's imagination and creativity. The performance aspect of drama\, mime and improvisation help improve spatial awareness\, motor skills and overall creativity on a purely educational level. While the study of text\, emotions and characterization help develop confident stage performers. The speech element of this course improves articulation and enunciation. Through poetry & rhymes students of all ages will improve their speech & understanding of language.
URL:https://eloquence.ie/class/junior-speech-drama/2017-12-02/
LOCATION:Co.Louth
CATEGORIES:Drama & Speech
ATTACH;FMTTYPE=image/jpeg:https://eloquence.ie/gsd/wp-content/uploads/2017/04/teacher-reading-to-kids.jpg
ORGANIZER;CN="Geraldine%20Kieran":MAILTO:geraldinekieran@gmail.com
END:VEVENT
BEGIN:VEVENT
DTSTART;TZID=Europe/Dublin:20171202T111500
DTEND;TZID=Europe/Dublin:20171202T121500
DTSTAMP:20171031T080827
CREATED:20170405T205958Z
LAST-MODIFIED:20170405T205958Z
UID:2683-1512213300-1512216900@eloquence.ie
SUMMARY:Intermediate Speech & Drama
DESCRIPTION:
URL:https://eloquence.ie/class/intermediate-speech-drama/2017-12-02/
LOCATION:Unit 4\, Creative Spark Clontygora Ct.\, Muirhevnamor\, Dundalk\, Co.Louth\, Ireland
GEO:53.9831192;-6.3830673
X-APPLE-STRUCTURED-LOCATION;VALUE=URI;X-ADDRESS=Unit 4 Creative Spark Clontygora Ct. Muirhevnamor Dundalk Co.Louth Ireland;X-APPLE-RADIUS=500;X-TITLE=Unit 4\, Creative Spark Clontygora Ct.\, Muirhevnamor:geo:-6.3830673,53.9831192
CATEGORIES:Drama & Speech
ORGANIZER;CN="Geraldine%20Kieran":MAILTO:geraldinekieran@gmail.com
END:VEVENT
BEGIN:VEVENT
DTSTART;TZID=Europe/Dublin:20171202T120000
DTEND;TZID=Europe/Dublin:20171202T130000
DTSTAMP:20171031T080827
CREATED:20170405T204448Z
LAST-MODIFIED:20170405T204448Z
UID:2917-1512216000-1512219600@eloquence.ie
SUMMARY:Senior Speech & Drama
DESCRIPTION:The staple diet of a good drama school! Our Speech & Drama course is suitable for children from five years upwards the course is fun\, interactive and highly educational. The dual combination of Speech and Drama within this course provides children with transferable skills such as effective communication\, self-expression\, performance skills\, critical thinking and a more active imagination. The performance aspect such as drama & mime help improve spatial awareness\, motor skills and overall creativity. The speech element of the course improves articulation and enunciation.\n\nWhat is Speech and Drama?\n\nSpeech is communicating with one another\, and drama is choosing an interesting way to express it. Speech and Drama builds or develops confidence\, self-esteem\, social skills and conversational ability. It also teaches empathy\, providing ·opportunities for children to experience the world from perspectives outside their own. Speech and Drama lessons are not meant just for reserved children but for the exuberant ones too.\n\nDrama is a wonderful way through which they can channel their energies to find innovative methods of creating and expressing! They promote free expression of children's imagination and creativity. The performance aspect of drama\, mime and improvisation help improve spatial awareness\, motor skills and overall creativity on a purely educational level. While the study of text\, emotions and characterization help develop confident stage performers. The speech element of this course improves articulation and enunciation. Through poetry & rhymes students of all ages will improve their speech & understanding of language.
URL:https://eloquence.ie/class/senior-speech-and-drama/2017-12-02/
LOCATION:Unit 4\, Creative Spark Clontygora Ct.\, Muirhevnamor\, Dundalk\, Co.Louth\, Ireland
GEO:53.9831192;-6.3830673
X-APPLE-STRUCTURED-LOCATION;VALUE=URI;X-ADDRESS=Unit 4 Creative Spark Clontygora Ct. Muirhevnamor Dundalk Co.Louth Ireland;X-APPLE-RADIUS=500;X-TITLE=Unit 4\, Creative Spark Clontygora Ct.\, Muirhevnamor:geo:-6.3830673,53.9831192
CATEGORIES:Drama & Speech
ORGANIZER;CN="Geraldine%20Kieran":MAILTO:geraldinekieran@gmail.com
END:VEVENT
END:VCALENDAR