BEGIN:VCALENDAR
VERSION:2.0
PRODID:-//Geraldine&#039;s School of Drama - ECPv4.4.5//NONSGML v1.0//EN
CALSCALE:GREGORIAN
METHOD:PUBLISH
X-WR-CALNAME:Geraldine&#039;s School of Drama
X-ORIGINAL-URL:https://eloquence.ie
X-WR-CALDESC:Events for Geraldine&#039;s School of Drama
BEGIN:VEVENT
DTSTART;TZID=Europe/Dublin:20171031T093000
DTEND;TZID=Europe/Dublin:20171031T160000
DTSTAMP:20171030T181601
CREATED:20171023T155423Z
LAST-MODIFIED:20171023T155516Z
UID:3015-1509442200-1509465600@eloquence.ie
SUMMARY:Halloween 'Spook Fest' Camp
DESCRIPTION:Halloween Spook Fest - A three day camp suitable for children of all ages. The course will run from October 31st to November 2nd. Children will learn to act\, improvise and been entertained on with games and drama activities during the Halloween mid-term break.\nThree day Camp in Creative Spark\, Dundalk.\nJuniors: 4-7 yrs\, 9.30-12.30 pm.\nSeniors: 8 yrs\, 1-4pm.\nCamp Fee: €45.00\, discount for siblings. Special offer €5.00 off if you book online using Promo Code 'Spooky'\n*Offer ends 5pm on Friday October 20th.
URL:https://eloquence.ie/class/halloween-spook-fest-camp/2017-10-31/
LOCATION:Unit 4\, Creative Spark Clontygora Ct.\, Muirhevnamor\, Dundalk\, Co.Louth\, Ireland
GEO:53.9831192;-6.3830673
X-APPLE-STRUCTURED-LOCATION;VALUE=URI;X-ADDRESS=Unit 4 Creative Spark Clontygora Ct. Muirhevnamor Dundalk Co.Louth Ireland;X-APPLE-RADIUS=500;X-TITLE=Unit 4\, Creative Spark Clontygora Ct.\, Muirhevnamor:geo:-6.3830673,53.9831192
CATEGORIES:announcements,Camp
ATTACH;FMTTYPE=image/jpeg:https://eloquence.ie/gsd/wp-content/uploads/2017/10/Halloween-One.jpg
ORGANIZER;CN="Geraldine%20Kieran":MAILTO:geraldinekieran@gmail.com
END:VEVENT
BEGIN:VEVENT
DTSTART;TZID=Europe/Dublin:20171031T140000
DTEND;TZID=Europe/Dublin:20171031T160000
DTSTAMP:20171030T181601
CREATED:20170904T151419Z
LAST-MODIFIED:20170918T210625Z
UID:2745-1509458400-1509465600@eloquence.ie
SUMMARY:Creative Drama ( Rampark NS)
DESCRIPTION:After-school drama group based in Lordship school. This course is only open to children attending the national school. Classes 2-3pm for juniors and 3-4pm for seniors. Courses will run for six weeks. Classes break for all school breaks. Excellent after school activities for children exploring language\, drama\, mime\, improvisation and acting.\n\n*Junior students will be collected by drama teacher and taken to drama room. Pick up is at the mains school door.
URL:https://eloquence.ie/class/creative-drama-rampark-ns/2017-10-31/
LOCATION:Scoil Mhuire Lordship Dundalk County Louth Ireland\, Dundalk \, Co.Louth\, Ireland
GEO:54.0019493;-6.4042301
X-APPLE-STRUCTURED-LOCATION;VALUE=URI;X-ADDRESS=Scoil Mhuire Lordship Dundalk County Louth Ireland Dundalk  Co.Louth Ireland;X-APPLE-RADIUS=500;X-TITLE=Scoil Mhuire Lordship Dundalk County Louth Ireland:geo:-6.4042301,54.0019493
CATEGORIES:Drama & Speech
ATTACH;FMTTYPE=image/jpeg:https://eloquence.ie/gsd/wp-content/uploads/2017/04/Drama-Blog.jpg
ORGANIZER;CN="Geraldine%20Kieran":MAILTO:geraldinekieran@gmail.com
END:VEVENT
END:VCALENDAR