BEGIN:VCALENDAR
VERSION:2.0
PRODID:-//Geraldine&#039;s School of Drama - ECPv4.4.5//NONSGML v1.0//EN
CALSCALE:GREGORIAN
METHOD:PUBLISH
X-WR-CALNAME:Geraldine&#039;s School of Drama
X-ORIGINAL-URL:https://eloquence.ie
X-WR-CALDESC:Events for Geraldine&#039;s School of Drama
BEGIN:VEVENT
DTSTART;TZID=Europe/Dublin:20171019T160000
DTEND;TZID=Europe/Dublin:20171019T170000
DTSTAMP:20171030T181426
CREATED:20170405T204857Z
LAST-MODIFIED:20170817T155029Z
UID:1941-1508428800-1508432400@eloquence.ie
SUMMARY:Musical Theatre
DESCRIPTION:Musical Theatre *New Course \n\nMusical theatre is a form of theatrical performance that combines songs\, spoken dialogue\, acting and dance. The story and emotional content is communicated through words\, music and movement.\n\nCourse will be broken down into blocks of two\, each block focusing on singing\, acting and dancing. Students will get the opportunity to perform for parents & family at our Christmas showcase.\n\nOur new course will commence on Sept Thursdays 7th for fourteen weeks. Course Fee €112.00\, discount for siblings. Payable in two installments of €56.00. Discount for siblings.\n\nTerm Sept 6th – Oct 25th Halloween Break\, Second half of term one Nov 1st- Dec 13th 2017.
URL:https://eloquence.ie/class/junior-creative-drama-dundalk/2017-10-19/
LOCATION:Unit 4\, Creative Spark Clontygora Ct.\, Muirhevnamor\, Dundalk\, Co.Louth\, Ireland
GEO:53.9831192;-6.3830673
X-APPLE-STRUCTURED-LOCATION;VALUE=URI;X-ADDRESS=Unit 4 Creative Spark Clontygora Ct. Muirhevnamor Dundalk Co.Louth Ireland;X-APPLE-RADIUS=500;X-TITLE=Unit 4\, Creative Spark Clontygora Ct.\, Muirhevnamor:geo:-6.3830673,53.9831192
CATEGORIES:Creative Drama
ATTACH;FMTTYPE=image/jpeg:https://eloquence.ie/gsd/wp-content/uploads/2017/04/Drama-Blog.jpg
ORGANIZER;CN="Geraldine%20Kieran":MAILTO:geraldinekieran@gmail.com
END:VEVENT
BEGIN:VEVENT
DTSTART;TZID=Europe/Dublin:20171019T170000
DTEND;TZID=Europe/Dublin:20171019T190000
DTSTAMP:20171030T181426
CREATED:20170413T174641Z
LAST-MODIFIED:20170413T174641Z
UID:2574-1508432400-1508439600@eloquence.ie
SUMMARY:Elocution
DESCRIPTION:Elocution – Clear. Crisp. Speech!\n\nThis course is ideal for serious acting students who wish to work on breath control and voice. It is also perfect for children who speak to fast or with poor articulation. This bespoke class is tailored to suit the needs of the individual.\n\nClass on Thursdays 5pm- 7pm. Book one to one sessions\, or small group sessions for forty minutes for €48 per month. One-hour sessions  €80.00\, students must be over ten years of age for hour long elocution classes.\n\n 
URL:https://eloquence.ie/class/senior-creative-drama-dundalk/2017-10-19/
LOCATION:Unit 4\, Creative Spark Clontygora Ct.\, Muirhevnamor\, Dundalk\, Co.Louth\, Ireland
GEO:53.9831192;-6.3830673
X-APPLE-STRUCTURED-LOCATION;VALUE=URI;X-ADDRESS=Unit 4 Creative Spark Clontygora Ct. Muirhevnamor Dundalk Co.Louth Ireland;X-APPLE-RADIUS=500;X-TITLE=Unit 4\, Creative Spark Clontygora Ct.\, Muirhevnamor:geo:-6.3830673,53.9831192
CATEGORIES:Elocution
ATTACH;FMTTYPE=image/jpeg:https://eloquence.ie/gsd/wp-content/uploads/2017/04/ps.jpg
ORGANIZER;CN="Geraldine%20Kieran":MAILTO:geraldinekieran@gmail.com
END:VEVENT
END:VCALENDAR