BEGIN:VCALENDAR
VERSION:2.0
PRODID:-//Geraldine&#039;s School of Drama - ECPv4.4.5//NONSGML v1.0//EN
CALSCALE:GREGORIAN
METHOD:PUBLISH
X-WR-CALNAME:Geraldine&#039;s School of Drama
X-ORIGINAL-URL:https://eloquence.ie
X-WR-CALDESC:Events for Geraldine&#039;s School of Drama
BEGIN:VEVENT
DTSTART;TZID=Europe/Dublin:20180104T170000
DTEND;TZID=Europe/Dublin:20180104T190000
DTSTAMP:20171030T182038
CREATED:20170413T174641Z
LAST-MODIFIED:20170413T174641Z
UID:2963-1515085200-1515092400@eloquence.ie
SUMMARY:Elocution
DESCRIPTION:Elocution – Clear. Crisp. Speech!\n\nThis course is ideal for serious acting students who wish to work on breath control and voice. It is also perfect for children who speak to fast or with poor articulation. This bespoke class is tailored to suit the needs of the individual.\n\nClass on Thursdays 5pm- 7pm. Book one to one sessions\, or small group sessions for forty minutes for €48 per month. One-hour sessions  €80.00\, students must be over ten years of age for hour long elocution classes.\n\n 
URL:https://eloquence.ie/class/senior-creative-drama-dundalk/2018-01-04/
LOCATION:Unit 4\, Creative Spark Clontygora Ct.\, Muirhevnamor\, Dundalk\, Co.Louth\, Ireland
GEO:53.9831192;-6.3830673
X-APPLE-STRUCTURED-LOCATION;VALUE=URI;X-ADDRESS=Unit 4 Creative Spark Clontygora Ct. Muirhevnamor Dundalk Co.Louth Ireland;X-APPLE-RADIUS=500;X-TITLE=Unit 4\, Creative Spark Clontygora Ct.\, Muirhevnamor:geo:-6.3830673,53.9831192
CATEGORIES:Elocution
ATTACH;FMTTYPE=image/jpeg:https://eloquence.ie/gsd/wp-content/uploads/2017/04/ps.jpg
ORGANIZER;CN="Geraldine%20Kieran":MAILTO:geraldinekieran@gmail.com
END:VEVENT
END:VCALENDAR