BEGIN:VCALENDAR
VERSION:2.0
PRODID:-//Geraldine&#039;s School of Drama - ECPv4.4.5//NONSGML v1.0//EN
CALSCALE:GREGORIAN
METHOD:PUBLISH
X-WR-CALNAME:Geraldine&#039;s School of Drama
X-ORIGINAL-URL:https://eloquence.ie
X-WR-CALDESC:Events for Geraldine&#039;s School of Drama
BEGIN:VEVENT
DTSTART;TZID=Europe/Dublin:20171201T155500
DTEND;TZID=Europe/Dublin:20171201T165500
DTSTAMP:20171030T182330
CREATED:20170405T205310Z
LAST-MODIFIED:20170921T221137Z
UID:2682-1512143700-1512147300@eloquence.ie
SUMMARY:Junior Creative Drama (Cooley)
DESCRIPTION:*Registration for this years classes in Cooley will take place on Thursday August 31st. Parents can also book online with a €20.00 deposit.\n\nCreative drama is a unique course developed by G.S.D’ Drama. The course is a combination of educational process drama & performance drama -by focusing on mime\, improvisation\, movement and dance. The classes encourage students to develop their imagination\, communication skills and self-expression in a safe and fun environment.\n\nChildren are often bursting with energy and ready for fun\, so we make sure our classes deliver just that! In drama\, they listen with interest and begin to speak more confidently while having fantastic fun learning to act through storytelling\, role play\, and improvisation. With the addition of dance and movement within the classes\, they improve their fitness and health benefits while they delight in learning the latest steps and new routines.  In drama Classes they positively beam with enjoyment learning new poems that teach correct breathing\, timing\, rhythm and song formation as they develop their vocal skills. The benefits of G.S.D School of Drama\, go way beyond learning performance skills however - students get to expand their cultural experiences and develop their creativity in classes that are also wonderful for increasing confidence\, improving literacy\, problem solving skills and verbal expressiveness.
URL:https://eloquence.ie/class/junior-creative-drama-cooley/2017-12-01/
LOCATION:Cooley Kickham's GFC\, Monksland\, \, Carlingford\, Co.Louth\, Ireland
GEO:54.009105;-6.168244
X-APPLE-STRUCTURED-LOCATION;VALUE=URI;X-ADDRESS=Cooley Kickham's GFC Monksland  Carlingford Co.Louth Ireland;X-APPLE-RADIUS=500;X-TITLE=Cooley Kickham's GFC\, Monksland\,:geo:-6.168244,54.009105
CATEGORIES:Creative Drama
ATTACH;FMTTYPE=image/jpeg:https://eloquence.ie/gsd/wp-content/uploads/2017/07/registration-cooley-featured-image.jpg
ORGANIZER;CN="Geraldine%20Kieran":MAILTO:geraldinekieran@gmail.com
END:VEVENT
END:VCALENDAR